1.5271200074
0.0000000000
0.0000000000
-1.5271200075
-86433.0387579558
207341.8015806069
