1.5267296754
0.0000000000
0.0000000000
-1.5267296754
-97370.3518982952
193682.2509531869
