1.5276825813
0.0000000000
0.0000000000
-1.5276825813
-171961.5106821553
208930.3141745153
