1.5262885812
0.0000000000
0.0000000000
-1.5262885812
-128796.6474419306
235704.3373529071
