1.5264832540
0.0000000000
0.0000000000
-1.5264832540
-150138.3146605214
236034.6094727750
