1.5279064673
0.0000000000
0.0000000000
-1.5279064674
-107319.7651991217
249250.8142376513
