1.5285066819
0.0000000000
0.0000000000
-1.5285066818
-106868.0584818890
291010.7985109603
