1.5290069050
0.0000000000
0.0000000000
-1.5290069050
-106517.8733656119
332633.3143428977
