1.5271028641
0.0000000000
0.0000000000
-1.5271028641
-192705.4900206507
237129.7286119551
