1.5277663493
0.0000000000
0.0000000000
-1.5277663493
-289187.9928645103
240071.4318357615
