1.5272768227
0.0000000000
0.0000000000
-1.5272768227
-166805.6007515640
444924.0921966932
