2.438400
0.000000
0.000000
-2.438400
720071.414070
4154204.024740
