2.438400
0.000000
0.000000
-2.438400
675543.139946
4166986.882346
