2.438400
0.000000
0.000000
-2.438400
598618.644601
4137788.265970
