2.438400
0.000000
0.000000
-2.438400
332315.910112
4110968.673241
