2.438400
0.000000
0.000000
-2.438400
356035.475865
4207636.424757
