2.43840000
0.00000000
0.00000000
-2.43840000
741094.34362170
4196425.96208865
