2.438400
0.000000
0.000000
-2.438400
674002.884454
4236288.133498
