2.438400
0.000000
0.000000
-2.438400
727494.172178
4279370.474073
