2.438400
0.000000
0.000000
-2.438400
715901.721625
4306798.189166
