2.438400
0.000000
0.000000
-2.438400
608221.189442
4248888.172850
