2.438400
0.000000
0.000000
-2.438400
661445.821689
4319275.815127
