2.438400
0.000000
0.000000
-2.438400
455334.029815
4248084.841927
