2.43840000
0.00000000
0.00000000
-2.43840000
279892.64028899
4237092.64861571
