2.438400
0.000000
0.000000
-2.438400
704094.311900
4348127.417321
