2.438400
0.000000
0.000000
-2.438400
648557.931008
4416127.006349
