2.43840000
0.00000000
0.00000000
-2.43840000
542146.79856407
4386882.23756587
