2.43840000
0.00000000
0.00000000
-2.43840000
327229.12800178
4388619.71655319
