2.43840000
0.00000000
0.00000000
-2.43840000
327849.59522056
4416369.84976464
