2.43840000
0.00000000
0.00000000
-2.43840000
283076.22931158
4348074.94334466
