2.43840000
0.00000000
0.00000000
-2.43840000
242143.06983818
4418772.76568185
