2.43840000
0.00000000
0.00000000
-2.43840000
682919.23787717
4333633.96132057
