2.43840000
0.00000000
0.00000000
-2.43840000
702701.07133018
4403576.99326550
