2.438400
0.000000
0.000000
-2.438400
720108.932777
4529136.716221
