2.43840000
0.00000000
0.00000000
-2.43840000
627041.65647837
4443463.91576129
