2.43840000
0.00000000
0.00000000
-2.43840000
616391.43665615
4443273.37647084
