2.43840000
0.00000000
0.00000000
-2.43840000
615309.72629640
4512651.55184743
