2.438400
0.000000
0.000000
-2.438400
562925.943893
4442546.216375
