2.438400
0.000000
0.000000
-2.438400
530768.652652
4470052.607976
