2.438400
0.000000
0.000000
-2.438400
424964.858210
4484127.802164
