2.438400
0.000000
0.000000
-2.438400
446174.262273
4497893.666158
