2.43840000
0.00000000
0.00000000
-2.43840000
733113.98641051
4460050.42701876
