2.43840000
0.00000000
0.00000000
-2.43840000
711067.79320441
4487140.78146533
