2.438400
0.000000
0.000000
-2.438400
685571.545360
4653076.386366
