2.438400
0.000000
0.000000
-2.438400
623942.033499
4623861.766723
