2.438400
0.000000
0.000000
-2.438400
623703.719297
4637738.106421
