2.43840562993392850
0.00000000000000000
0.00000000000000000
-2.43838714331436620
455990.63587721129000000
4345194.85033523570000000
