2.43840000
0.00000000
0.00000000
-2.43840000
391398.11860643
3403026.07627733
