2.43840000
0.00000000
0.00000000
-2.43840000
223599.88826758
3406029.30875288
