2.43840000
0.00000000
0.00000000
-2.43840000
451684.29089027
3485707.23531466
